BEGIN:VCALENDAR
VERSION:2.0
PRODID:-//eventon.com NONSGML v1.0//EN
CALSCALE:GREGORIAN
METHOD:PUBLISH
BEGIN:VEVENT
UID:69e5612ac7ea5
DTSTAMP:20260419T231138Z
DTSTART:20211105T050000Z
DTEND:20211105T060000Z
LOCATION:Gunnison Library 1 Quartz Street\,  Gunnison\,  CO 81230
SUMMARY:Author Talk: Doug Fergus
DESCRIPTION:Join us for an evening with Doug Fergus\,  author of Small Port
 ions Cafe: A Tempting Assortment of Stories. About the book: Small Portions
  Cafe´ doesn’t just push the boundaries of normalcy\,  it delights in do
 ing so. These highlights give you a taste of what to expect in these delect
 able short[..]\nhttps://www.gunnisoncountylibraries.org/events/author-talk-
 doug-fergus/
URL:https://www.gunnisoncountylibraries.org/events/author-talk-doug-fergus/
END:VEVENT
END:VCALENDAR