BEGIN:VCALENDAR
VERSION:2.0
PRODID:-//eventon.com NONSGML v1.0//EN
CALSCALE:GREGORIAN
METHOD:PUBLISH
BEGIN:VEVENT
UID:69e58c1c7fe0e
DTSTAMP:20260420T021452Z
DTSTART:20210930T011500Z
DTEND:20210930T031500Z
LOCATION:Crested Butte Library
SUMMARY:After-School Read Aloud
DESCRIPTION:After-school Storytelling and Read Aloud! Every Wednesday we wi
 ll read a Chapter Book together from 2:15-4:15 pm.\nhttps://www.gunnisoncou
 ntylibraries.org/events/after-school-read-aloud/
URL:https://www.gunnisoncountylibraries.org/events/after-school-read-aloud/
END:VEVENT
END:VCALENDAR