BEGIN:VCALENDAR
VERSION:2.0
PRODID:-//eventon.com NONSGML v1.0//EN
CALSCALE:GREGORIAN
METHOD:PUBLISH
BEGIN:VEVENT
UID:69ead924336ca
DTSTAMP:20260424T024452Z
DTSTART:20210824T173000Z
DTEND:20210824T183000Z
LOCATION:Crested Butte Library
SUMMARY:Yoga on the Lawn
DESCRIPTION:Instructor Katie Thomas will be leading yoga every 4th Tuesday 
 at 5:30 pm this summer for all levels and abilities at the Crested Butte Li
 brary. Classes are free\,  provide your own mat. We&#8217;ll have extra mat
 s if you do not have your own.\nhttps://www.gunnisoncountylibraries.org/eve
 nts/yoga-on-the-lawn-6/
URL:https://www.gunnisoncountylibraries.org/events/yoga-on-the-lawn-6/
END:VEVENT
END:VCALENDAR