BEGIN:VCALENDAR
VERSION:2.0
PRODID:-//eventon.com NONSGML v1.0//EN
CALSCALE:GREGORIAN
METHOD:PUBLISH
BEGIN:VEVENT
UID:69e573a0dc8aa
DTSTAMP:20260420T003024Z
DTSTART:20200109T190000Z
DTEND:20200109T200000Z
LOCATION:Crested Butte Library
SUMMARY:Cleaning & Organizing Tricks for the New Year
DESCRIPTION:With the start of another new year\,  comes the opportunity for
  new home projects. Learn from local expert\,  Nancy Wicks\,  some ways you
  can get organized\,  optimize your space and re-home or properly preserve 
 your treasures. This event is free and open to all. &nbsp;\nhttps://www.gun
 nisoncountylibraries.org/events/cleaning-organizing-tricks-for-the-new-year
 /
URL:https://www.gunnisoncountylibraries.org/events/cleaning-organizing-tricks-for-the-new-year/
END:VEVENT
END:VCALENDAR