BEGIN:VCALENDAR
VERSION:2.0
PRODID:-//eventon.com NONSGML v1.0//EN
CALSCALE:GREGORIAN
METHOD:PUBLISH
BEGIN:VEVENT
UID:69e4c641e1061
DTSTAMP:20260419T121041Z
DTSTART:20190610T130000Z
DTEND:20190610T150000Z
LOCATION:Gunnison Library 1 Quartz Street\,  Gunnison\,  CO 81230
SUMMARY:Amazing Mondays!
DESCRIPTION:Drop in every Monday between 1-3 pm this summer for games\,  cr
 afts\,  lego challenges\,  etc. June 3: Create your own constellations June
  10: Space Buddies June 17: Lego Challenges June 24: Chalk Murals + Stencil
 s July 1: A Galaxy of Games July 8: Out of this World coloring (Velvet draw
 ings)[..]\nhttps://www.gunnisoncountylibraries.org/events/amazing-mondays/v
 ar/ri-1.l-L1
URL:https://www.gunnisoncountylibraries.org/events/amazing-mondays/var/ri-1.l-L1
END:VEVENT
END:VCALENDAR