BEGIN:VCALENDAR
VERSION:2.0
PRODID:-//eventon.com NONSGML v1.0//EN
CALSCALE:GREGORIAN
METHOD:PUBLISH
BEGIN:VEVENT
UID:69e4d2993a786
DTSTAMP:20260419T130321Z
DTSTART:20190314T153000Z
DTEND:20190314T170000Z
LOCATION:Gunnison Library 1 Quartz Street\,  Gunnison\,  CO 81230
SUMMARY:After School Arts & Crafts
DESCRIPTION:Celebrate St. Patrick’s Day by creating your own Leprechaun H
 ouse! Supplies provided. For ages 5+. &nbsp;\nhttps://www.gunnisoncountylib
 raries.org/events/after-school-arts-crafts/
URL:https://www.gunnisoncountylibraries.org/events/after-school-arts-crafts/
END:VEVENT
END:VCALENDAR