BEGIN:VCALENDAR
VERSION:2.0
PRODID:-//eventon.com NONSGML v1.0//EN
CALSCALE:GREGORIAN
METHOD:PUBLISH
BEGIN:VEVENT
UID:69e4f1405abb2
DTSTAMP:20260419T151408Z
DTSTART:20190313T120000Z
DTEND:20190313T130000Z
LOCATION:Gunnison Library 1 Quartz Street\,  Gunnison\,  CO 81230
SUMMARY:Winter Energy Efficiency
DESCRIPTION:Drop by the Western Heritage Room to speak with representatives
  of the Gunnison County Electric Association to discover ways to reduce hea
 ting costs during cold winter months.  The GV-HEAT team will be on hand to
  provide information on resources to help finance efficiency projects. Lig
 ht refreshments provided. &nbsp; &nbsp;\nhttps://www.gunnisoncountylibrarie
 s.org/events/winter-energy-efficiency-4/
URL:https://www.gunnisoncountylibraries.org/events/winter-energy-efficiency-4/
END:VEVENT
END:VCALENDAR