BEGIN:VCALENDAR
VERSION:2.0
PRODID:-//eventon.com NONSGML v1.0//EN
CALSCALE:GREGORIAN
METHOD:PUBLISH
BEGIN:VEVENT
UID:69e504924b612
DTSTAMP:20260419T163634Z
DTSTART:20190312T173000Z
DTEND:20190312T190000Z
LOCATION:
SUMMARY:Books-N-Bars
DESCRIPTION:Join us for drinks and discussion at Tassinong Farms (CB South)
  on March 12 at 5:30 pm. This month we will be reading &#8220;Spider Woman&
 #8217;s Daughter&#8221; by Anne Hillerman\,  in anticipation of her March 2
 7th author talk in Gunnison. Copies of the book are available to borrow at 
 the library[..]\nhttps://www.gunnisoncountylibraries.org/events/books-n-bar
 s-24/
URL:https://www.gunnisoncountylibraries.org/events/books-n-bars-24/
END:VEVENT
END:VCALENDAR