BEGIN:VCALENDAR
VERSION:2.0
PRODID:-//eventon.com NONSGML v1.0//EN
CALSCALE:GREGORIAN
METHOD:PUBLISH
BEGIN:VEVENT
UID:69e519f17a43c
DTSTAMP:20260419T180745Z
DTSTART:20190306T120000Z
DTEND:20190306T130000Z
LOCATION:Crested Butte Library
SUMMARY:Winter Energy Efficiency
DESCRIPTION:Drop by the Library 2nd Floor to speak with representatives of 
 the Gunnison County Electric Association to discover ways to reduce heating
  costs during cold winter months. The GV-HEAT team will be on hand to provi
 de information on resources to help finance efficiency projects. Light ref
 reshments provided. &nbsp;\nhttps://www.gunnisoncountylibraries.org/events/
 winter-energy-efficiency-3/
URL:https://www.gunnisoncountylibraries.org/events/winter-energy-efficiency-3/
END:VEVENT
END:VCALENDAR