BEGIN:VCALENDAR
VERSION:2.0
PRODID:-//eventon.com NONSGML v1.0//EN
CALSCALE:GREGORIAN
METHOD:PUBLISH
BEGIN:VEVENT
UID:69eb45cb2824c
DTSTAMP:20260424T102827Z
DTSTART:20190227T190000Z
DTEND:20190227T200000Z
LOCATION:Crested Butte Library
SUMMARY:Black History Month Celebration w/ Fara Tolno
DESCRIPTION:This event will celebrate the influences and history of African
  culture in America\,  with guest presenter Fara Tolno. About Fara: Fara To
 lno was born in Guinea\,  West Africa. He spent his youth in the village of
  Kissidugu and Guinea’s capital city\,  Conakry. Playing djembe since the
  age of nine\,  he[..]\nhttps://www.gunnisoncountylibraries.org/events/blac
 k-history-month-celebration-w-fara-tolno/
URL:https://www.gunnisoncountylibraries.org/events/black-history-month-celebration-w-fara-tolno/
END:VEVENT
END:VCALENDAR