BEGIN:VCALENDAR
VERSION:2.0
PRODID:-//eventon.com NONSGML v1.0//EN
CALSCALE:GREGORIAN
METHOD:PUBLISH
BEGIN:VEVENT
UID:69e8ec3209ad9
DTSTAMP:20260422T154138Z
DTSTART:20190108T100000Z
DTEND:20190108T103000Z
LOCATION:Gunnison Library 1 Quartz Street\,  Gunnison\,  CO 81230
SUMMARY:Baby Book Club
DESCRIPTION:Join us every Tuesday from 10-1030 as we read\,  sing\,  rhyme 
 and Dance! Group Playtime Immediately follows.\nhttps://www.gunnisoncountyl
 ibraries.org/events/baby-book-club-4/
URL:https://www.gunnisoncountylibraries.org/events/baby-book-club-4/
END:VEVENT
END:VCALENDAR