BEGIN:VCALENDAR
VERSION:2.0
PRODID:-//eventon.com NONSGML v1.0//EN
CALSCALE:GREGORIAN
METHOD:PUBLISH
BEGIN:VEVENT
UID:69e9012ad0626
DTSTAMP:20260422T171106Z
DTSTART:20181025T190000Z
DTEND:20181025T200000Z
LOCATION:Crested Butte Library
SUMMARY:Branding Your Business with Crested Butte Chamber of Commerce
DESCRIPTION:Join the Crested Butte Chamber of Commerce for an informative w
 orkshop on how to effectively brand your business.\nhttps://www.gunnisoncou
 ntylibraries.org/events/branding-your-bussines-with-crested-butte-chamber-o
 f-commerce/
URL:https://www.gunnisoncountylibraries.org/events/branding-your-bussines-with-crested-butte-chamber-of-commerce/
END:VEVENT
END:VCALENDAR