BEGIN:VCALENDAR
VERSION:2.0
PRODID:-//eventon.com NONSGML v1.0//EN
CALSCALE:GREGORIAN
METHOD:PUBLISH
BEGIN:VEVENT
UID:69e9160615e16
DTSTAMP:20260422T184006Z
DTSTART:20181108T190000Z
DTEND:20181108T210000Z
LOCATION:Gunnison Library 1 Quartz Street\,  Gunnison\,  CO 81230
SUMMARY:Wine Tasting with Gunnison Friends of the Library
DESCRIPTION:Join the Gunnison Friends of the Library for a wine tasting. Th
 is event will benefit library and literacy programs throughout the communit
 y. Support\,  education\,  and wine provided by Paul and the Wet Grocer!\nh
 ttps://www.gunnisoncountylibraries.org/events/wine-tasting-with-gunnison-fr
 iends-of-the-library/
URL:https://www.gunnisoncountylibraries.org/events/wine-tasting-with-gunnison-friends-of-the-library/
END:VEVENT
END:VCALENDAR