BEGIN:VCALENDAR
VERSION:2.0
PRODID:-//eventon.com NONSGML v1.0//EN
CALSCALE:GREGORIAN
METHOD:PUBLISH
BEGIN:VEVENT
UID:69e92c9705b46
DTSTAMP:20260422T201623Z
DTSTART:20181018T190000Z
DTEND:20181018T200000Z
LOCATION:Gunnison Library 1 Quartz Street\,  Gunnison\,  CO 81230
SUMMARY:Beneath Blue Mesa: The Gunnison River Valley Before Blue Mesa Reservoir
DESCRIPTION:David Primus will present a slide show of the history of the Gu
 nnison River Valley before Blue Mesa Reservoir was completed in 1965. He wi
 ll discuss fishing resorts\,  ranches\,  towns\,  and the narrow gauge rail
 road that now lie beneath the reservoir as remembered by local residents. P
 rimus has lived in[..]\nhttps://www.gunnisoncountylibraries.org/events/bene
 ath-blue-mesa-the-gunnison-river-valley-before-blue-mesa-reservoir-2/
URL:https://www.gunnisoncountylibraries.org/events/beneath-blue-mesa-the-gunnison-river-valley-before-blue-mesa-reservoir-2/
END:VEVENT
END:VCALENDAR