BEGIN:VCALENDAR
VERSION:2.0
PRODID:-//eventon.com NONSGML v1.0//EN
CALSCALE:GREGORIAN
METHOD:PUBLISH
BEGIN:VEVENT
UID:69e4f8bea8458
DTSTAMP:20260419T154606Z
DTSTART:20180416T180000Z
DTEND:20180416T190000Z
LOCATION:Gunnison Library 1 Quartz Street\,  Gunnison\,  CO 81230
SUMMARY:Clases de alfabetización española
DESCRIPTION:Spanish Literacy Classes Join us for Spanish Literacy classes t
 o improve your reading and writing skills in Spanish. Classes taught in Spa
 nish.   Español en primavera &#8211; Lunes 6:00 a 7:00pm Los invitamos a 
 las clases de alfabetización para mejorar sus habilidades de escritura y l
 ectura española. Las clases son[..]\nhttps://www.gunnisoncountylibraries.o
 rg/events/clases-de-alfabetizacion-espanola/
URL:https://www.gunnisoncountylibraries.org/events/clases-de-alfabetizacion-espanola/
END:VEVENT
END:VCALENDAR