BEGIN:VCALENDAR
VERSION:2.0
PRODID:-//eventon.com NONSGML v1.0//EN
CALSCALE:GREGORIAN
METHOD:PUBLISH
BEGIN:VEVENT
UID:69ec13526a993
DTSTAMP:20260425T010522Z
DTSTART:20180626T090000Z
DTEND:20180626T100000Z
LOCATION:Crested Butte Library
SUMMARY:Coffee with the Community
DESCRIPTION:Join us for the Crested Butte Library&#8217;s\,  &#8220;Coffee 
 with the Community.&#8221; Our guests in June are Chris Hensley (Executive 
 Director)\,  Elizabeth Philbin (Assistant Program Director) and Allison But
 cher (Development Director) from the Adaptive Sports Center. Coffee with th
 e Community is a monthly program that gives the public and local officials[
 ..]\nhttps://www.gunnisoncountylibraries.org/events/coffee-with-the-communi
 ty-12/
URL:https://www.gunnisoncountylibraries.org/events/coffee-with-the-community-12/
END:VEVENT
END:VCALENDAR