BEGIN:VCALENDAR
VERSION:2.0
PRODID:-//eventon.com NONSGML v1.0//EN
CALSCALE:GREGORIAN
METHOD:PUBLISH
BEGIN:VEVENT
UID:69ec2a68f0e12
DTSTAMP:20260425T024352Z
DTSTART:20180509T190000Z
DTEND:20180509T203000Z
LOCATION:Crested Butte Library
SUMMARY:Advanced Social Media with Deborah Tutnauer
DESCRIPTION:Take your use of social media\,  for promoting your business\, 
  to the next level!\nhttps://www.gunnisoncountylibraries.org/events/advance
 d-social-media-with-debra-tutnauer-2/
URL:https://www.gunnisoncountylibraries.org/events/advanced-social-media-with-debra-tutnauer-2/
END:VEVENT
END:VCALENDAR