BEGIN:VCALENDAR
VERSION:2.0
PRODID:-//eventon.com NONSGML v1.0//EN
CALSCALE:GREGORIAN
METHOD:PUBLISH
BEGIN:VEVENT
UID:69e88e39da508
DTSTAMP:20260422T090041Z
DTSTART:20180418T083000Z
DTEND:20180418T093000Z
LOCATION:Gunnison Library 1 Quartz Street\,  Gunnison\,  CO 81230
SUMMARY:Coffee with the Community Wellness in the Workplace
DESCRIPTION:Join the West Central Wellness Partnership and Gunnison County 
 for a discussion on wellness in the workplace.  Are you part of a small bu
 siness that values the health\,  safety\,  and well-being of its employees?
  Join us to learn  about tools and resources for employers and employees!\
 nhttps://www.gunnisoncountylibraries.org/events/coffee-with-the-community-w
 ellness-in-the-workplace/
URL:https://www.gunnisoncountylibraries.org/events/coffee-with-the-community-wellness-in-the-workplace/
END:VEVENT
END:VCALENDAR