BEGIN:VCALENDAR
VERSION:2.0
PRODID:-//eventon.com NONSGML v1.0//EN
CALSCALE:GREGORIAN
METHOD:PUBLISH
BEGIN:VEVENT
UID:69eb712601b3c
DTSTAMP:20260424T133326Z
DTSTART:20180410T173000Z
DTEND:20180410T190000Z
LOCATION:
SUMMARY:Books-n-Bars
DESCRIPTION:Join us in April for Books-n-Bars at Kochevar&#8217;s Saloon\, 
  on Tuesday\,  April 10 at 5:30 PM. Our book of the month is Swan by France
 s Mayes Titles are available for check out at the Library and for purchase 
 at Townie Books.\nhttps://www.gunnisoncountylibraries.org/events/books-n-ba
 rs-15/
URL:https://www.gunnisoncountylibraries.org/events/books-n-bars-15/
END:VEVENT
END:VCALENDAR