BEGIN:VCALENDAR
VERSION:2.0
PRODID:-//eventon.com NONSGML v1.0//EN
CALSCALE:GREGORIAN
METHOD:PUBLISH
BEGIN:VEVENT
UID:69ec2878b75b1
DTSTAMP:20260425T023536Z
DTSTART:20180215T190000Z
DTEND:20180215T200000Z
LOCATION:Crested Butte Library
SUMMARY:Beyond the Boost (Facebook Paid Marketing)
DESCRIPTION:Beyond the Boost Facebook paid advertising for local business c
 an be the smartest use of your advertising dollars. Where else can you spec
 ify your exact unique audience and follow in detail the results of the call
  to action in your ad? Facebook makes it easy by imploring you to use[..]\n
 https://www.gunnisoncountylibraries.org/events/beyond-the-boost-facebook-pa
 id-marketing/
URL:https://www.gunnisoncountylibraries.org/events/beyond-the-boost-facebook-paid-marketing/
END:VEVENT
END:VCALENDAR