BEGIN:VCALENDAR
VERSION:2.0
PRODID:-//eventon.com NONSGML v1.0//EN
CALSCALE:GREGORIAN
METHOD:PUBLISH
BEGIN:VEVENT
UID:69ec0e6ceebf5
DTSTAMP:20260425T004428Z
DTSTART:20180118T100000Z
DTEND:20180118T113000Z
LOCATION:Crested Butte Library
SUMMARY:Writing Workshop:  Storytelling
DESCRIPTION:The Crested Butte Library and WritingStrides coach Alissa Johns
 on will be hosting a writing workshop on Thursday\,  January 18 at 10 AM. T
 his will be the first in a monthly series designed to help you study the cr
 aft of writing. First up\,  storytelling. You love to write\,  but are you[
 ..]\nhttps://www.gunnisoncountylibraries.org/events/writing-workshop-storyt
 elling/
URL:https://www.gunnisoncountylibraries.org/events/writing-workshop-storytelling/
END:VEVENT
END:VCALENDAR