BEGIN:VCALENDAR
VERSION:2.0
PRODID:-//eventon.com NONSGML v1.0//EN
CALSCALE:GREGORIAN
METHOD:PUBLISH
BEGIN:VEVENT
UID:69ec25332f389
DTSTAMP:20260425T022139Z
DTSTART:20180226T190000Z
DTEND:20180226T203000Z
LOCATION:Crested Butte Library
SUMMARY:Colorado in Black and White
DESCRIPTION:Colorado in Black and White What does it mean to be a poet and 
 writer in and of Colorado? Join Western Slope Poet Laureate and long-time C
 rested Butte resident David J. Rothman for four sessions in which we consid
 er the poetry (and some of the prose) of Colorado in English\, [..]\nhttps:
 //www.gunnisoncountylibraries.org/events/colorado-in-black-and-white/
URL:https://www.gunnisoncountylibraries.org/events/colorado-in-black-and-white/
END:VEVENT
END:VCALENDAR