BEGIN:VCALENDAR
VERSION:2.0
PRODID:-//eventon.com NONSGML v1.0//EN
CALSCALE:GREGORIAN
METHOD:PUBLISH
BEGIN:VEVENT
UID:69ec1556d8941
DTSTAMP:20260425T011358Z
DTSTART:20180227T090000Z
DTEND:20180227T100000Z
LOCATION:Crested Butte Library
SUMMARY:Coffee with the Community
DESCRIPTION:Join us for the Crested Butte Library&#8217;s\,  &#8220;Coffee 
 with the Community.&#8221; Our guests in February is Jenny Birnie\,  Execut
 ive Director of the Crested Butte Center for the Arts. Coffee with the Comm
 unity is a monthly program that gives the public and local officials an opp
 ortunity to discuss community issues\,  learn[..]\nhttps://www.gunnisoncoun
 tylibraries.org/events/coffee-with-the-community-8/
URL:https://www.gunnisoncountylibraries.org/events/coffee-with-the-community-8/
END:VEVENT
END:VCALENDAR