BEGIN:VCALENDAR
VERSION:2.0
PRODID:-//eventon.com NONSGML v1.0//EN
CALSCALE:GREGORIAN
METHOD:PUBLISH
BEGIN:VEVENT
UID:69ebfc8697b47
DTSTAMP:20260424T232806Z
DTSTART:20180125T090000Z
DTEND:20180125T100000Z
LOCATION:Crested Butte Library
SUMMARY:Coffee with the Community
DESCRIPTION:Join us for the Crested Butte Library&#8217;s\,  &#8220;Coffee 
 with the Community.&#8221; Our guest in January is Drew Brookhart\,  Direct
 or of the Gunnison County Library District. Coffee with the Community is a 
 monthly program that gives the public and local officials an opportunity to
  discuss community issues\,  learn more about local[..]\nhttps://www.gunnis
 oncountylibraries.org/events/coffee-with-the-community-7/
URL:https://www.gunnisoncountylibraries.org/events/coffee-with-the-community-7/
END:VEVENT
END:VCALENDAR