BEGIN:VCALENDAR
VERSION:2.0
PRODID:-//eventon.com NONSGML v1.0//EN
CALSCALE:GREGORIAN
METHOD:PUBLISH
BEGIN:VEVENT
UID:69ebe6d881756
DTSTAMP:20260424T215536Z
DTSTART:20180120T090000Z
DTEND:20180120T103000Z
LOCATION:Crested Butte Library
SUMMARY:Yoga @ the Library
DESCRIPTION:Join us for an Iyengar Yoga class with guest instructor Jen Lag
 gis on Saturday\,  January 20 at 9 AM This class will focus on proper align
 ment in poses in the tradition of B.K.S. Iyengar. Please bring any helpful 
 props such as a mat\,  blanket\,  or block. We will have a[..]\nhttps://www
 .gunnisoncountylibraries.org/events/yoga-the-library-9/
URL:https://www.gunnisoncountylibraries.org/events/yoga-the-library-9/
END:VEVENT
END:VCALENDAR