BEGIN:VCALENDAR
VERSION:2.0
PRODID:-//eventon.com NONSGML v1.0//EN
CALSCALE:GREGORIAN
METHOD:PUBLISH
BEGIN:VEVENT
UID:69eb78805b4af
DTSTAMP:20260424T140448Z
DTSTART:20170907T083000Z
DTEND:20170907T100000Z
LOCATION:
SUMMARY:Coffee with the Community- Gunnison Valley Regional Housing Authority
DESCRIPTION:Enjoy a free cup of coffee with The Gunnison Valley Regional Ho
 using Authority on Thursday September 7 from 8:30am-10am.  While sipping y
 our coffee\,  Executive Director Jennifer Kermode will tell us about who th
 e Housing Authority is\,  what they do and how they developed as an organiz
 ation.  She’ll identify housing pressure[..]\nhttps://www.gunnisoncounty
 libraries.org/events/coffee-with-the-community-gunnison-valley-regional-hou
 sing-authority/
URL:https://www.gunnisoncountylibraries.org/events/coffee-with-the-community-gunnison-valley-regional-housing-authority/
END:VEVENT
END:VCALENDAR