BEGIN:VCALENDAR
VERSION:2.0
PRODID:-//eventon.com NONSGML v1.0//EN
CALSCALE:GREGORIAN
METHOD:PUBLISH
BEGIN:VEVENT
UID:69eb48ce05fd2
DTSTAMP:20260424T104118Z
DTSTART:20170830T110000Z
DTEND:20170830T113000Z
LOCATION:
SUMMARY:Baby & Toddler Storytime
DESCRIPTION:Join us at the 11 AM on Wednesdays at the Crested Butte Library
  for Baby &amp; Toddler Storytime (ages birth to 3 years) with Storytime Su
 e! This is an interactive session for the wee ones where we focus on the 5 
 practices of Every Child Ready to Read:  read\,  write\, [..]\nhttps://www
 .gunnisoncountylibraries.org/events/baby-toddler-time/
URL:https://www.gunnisoncountylibraries.org/events/baby-toddler-time/
END:VEVENT
END:VCALENDAR