BEGIN:VCALENDAR
VERSION:2.0
PRODID:-//eventon.com NONSGML v1.0//EN
CALSCALE:GREGORIAN
METHOD:PUBLISH
BEGIN:VEVENT
UID:69e4d43c978d6
DTSTAMP:20260419T131020Z
DTSTART:20170826T093000Z
DTEND:20170826T104500Z
LOCATION:Crested Butte Library
SUMMARY:Yoga @ the Library
DESCRIPTION:Join us at the Library\,  for a Hatha Yoga class with Ashley Sa
 rgent on Saturday\,  August 26 from 9:30-10:45 am. This class is FREE and o
 pen to the public. We will have a limited number of mats available\,  so BY
 OM is encouraged.\nhttps://www.gunnisoncountylibraries.org/events/yoga-the-
 library-5/
URL:https://www.gunnisoncountylibraries.org/events/yoga-the-library-5/
END:VEVENT
END:VCALENDAR