BEGIN:VCALENDAR
VERSION:2.0
PRODID:-//eventon.com NONSGML v1.0//EN
CALSCALE:GREGORIAN
METHOD:PUBLISH
BEGIN:VEVENT
UID:69e7d700a1953
DTSTAMP:20260421T195856Z
DTSTART:20170928T090000Z
DTEND:20170928T100000Z
LOCATION:Crested Butte Library
SUMMARY:Coffee with the Community
DESCRIPTION:Join us for the Crested Butte Library&#8217;s\,  &#8220;Coffee 
 with the Community.&#8221; Our guest in September is Phil Chamberland\,  G
 unnison County Commissioner. Coffee with the Community is a monthly program
  that gives the public and local officials an opportunity to discuss commun
 ity issues\,  learn more about local government\,  and build relationships.
  There[..]\nhttps://www.gunnisoncountylibraries.org/events/coffee-with-the-
 community/
URL:https://www.gunnisoncountylibraries.org/events/coffee-with-the-community/
END:VEVENT
END:VCALENDAR