BEGIN:VCALENDAR
VERSION:2.0
PRODID:-//eventon.com NONSGML v1.0//EN
CALSCALE:GREGORIAN
METHOD:PUBLISH
BEGIN:VEVENT
UID:69e7c0015698c
DTSTAMP:20260421T182049Z
DTSTART:20170821T190000Z
DTEND:20170821T200000Z
LOCATION:
SUMMARY:Build a Better Relationship with your Computer
DESCRIPTION:What is your relationship to your computer- is it functional or
  dysfunctional? What is the most important thing about a password and how d
 o you manage them? Why does spam seem to increase every day and what can be
  done about it? Is Facebook a virus laden cesspool or a[..]\nhttps://www.gu
 nnisoncountylibraries.org/events/digital-privacy/
URL:https://www.gunnisoncountylibraries.org/events/digital-privacy/
END:VEVENT
END:VCALENDAR