BEGIN:VCALENDAR
VERSION:2.0
PRODID:-//eventon.com NONSGML v1.0//EN
CALSCALE:GREGORIAN
METHOD:PUBLISH
BEGIN:VEVENT
UID:69e7a6ff1dd7b
DTSTAMP:20260421T163407Z
DTSTART:20170815T190000Z
DTEND:20170815T203000Z
LOCATION:
SUMMARY:Beneath Blue Mesa-The Gunnison River Valley before Blue Mesa Reservoir
DESCRIPTION:Join local historian David Primus for his popular presentation 
 on Blue Mesa Reservoir. Blue Mesa Reservoir was created by the construction
  of Blue Mesa Dam\,  a 390-foot tall earthen fill dam constructed on the Gu
 nnison by the U.S. Bureau of Reclamation in 1966 for the generation of hydr
 oelectric power. Managed[..]\nhttps://www.gunnisoncountylibraries.org/event
 s/beneath-blue-mesa-the-gunnison-river-valley-before-blue-mesa-reservoir/
URL:https://www.gunnisoncountylibraries.org/events/beneath-blue-mesa-the-gunnison-river-valley-before-blue-mesa-reservoir/
END:VEVENT
END:VCALENDAR