BEGIN:VCALENDAR
VERSION:2.0
PRODID:-//eventon.com NONSGML v1.0//EN
CALSCALE:GREGORIAN
METHOD:PUBLISH
BEGIN:VEVENT
UID:69e4eca837ffb
DTSTAMP:20260419T145432Z
DTSTART:20170907T180000Z
DTEND:20170907T200000Z
LOCATION:Crested Butte Library
SUMMARY:Wine Tastings Off the Beaten Path... (fundraiser)
DESCRIPTION:Tonight we will learn about wines that come from obscure locati
 ons around the globe from our sommelier\,  Aaron Tomcak of Mountain Spirits
  Liquor. Join the Crested Butte Friends of the Library (CBFOL) and sommelie
 r\,  Aaron Tomcak\,  for a fun and educational evening and do good too! Thi
 s event is a[..]\nhttps://www.gunnisoncountylibraries.org/events/wine-tasti
 ngs-off-the-beaten-path-fundraiser-3/
URL:https://www.gunnisoncountylibraries.org/events/wine-tastings-off-the-beaten-path-fundraiser-3/
END:VEVENT
END:VCALENDAR