BEGIN:VCALENDAR
VERSION:2.0
PRODID:-//eventon.com NONSGML v1.0//EN
CALSCALE:GREGORIAN
METHOD:PUBLISH
BEGIN:VEVENT
UID:69eb8dfc312c6
DTSTAMP:20260424T153628Z
DTSTART:20170802T190000Z
DTEND:20170802T203000Z
LOCATION:Crested Butte Library
SUMMARY:An Oral History of the Gunnison Valley Video Series: Lee Spann
DESCRIPTION:Postponed to August 2. Join the Crested Butte Library for a sho
 wing of the An Oral History of the Gunnison Valley Video Series featuring L
 ee Spann. This video provides a description of the life of Lee Spann\,  inc
 luding his family&#8217;s history around the Jack&#8217;s Cabin area. This 
 oral history was[..]\nhttps://www.gunnisoncountylibraries.org/events/an-ora
 l-history-of-the-gunnison-valley-video-series-lee-spann/
URL:https://www.gunnisoncountylibraries.org/events/an-oral-history-of-the-gunnison-valley-video-series-lee-spann/
END:VEVENT
END:VCALENDAR