BEGIN:VCALENDAR
VERSION:2.0
PRODID:-//eventon.com NONSGML v1.0//EN
CALSCALE:GREGORIAN
METHOD:PUBLISH
BEGIN:VEVENT
UID:69eba6173c688
DTSTAMP:20260424T171919Z
DTSTART:20170726T190000Z
DTEND:20170726T200000Z
LOCATION:
SUMMARY:Balancing Mind\,  Body & Spirit
DESCRIPTION:Join Stacy Fuller; Ayurvedic Counselor and Owner of Ahimsa Well
 ness\,   to learn about nutrition\,  herbs\,  and lifestyle practices.\nht
 tps://www.gunnisoncountylibraries.org/events/balancing-mind-body-spirit/
URL:https://www.gunnisoncountylibraries.org/events/balancing-mind-body-spirit/
END:VEVENT
END:VCALENDAR