BEGIN:VCALENDAR
VERSION:2.0
PRODID:-//eventon.com NONSGML v1.0//EN
CALSCALE:GREGORIAN
METHOD:PUBLISH
BEGIN:VEVENT
UID:69e562f7b00ff
DTSTAMP:20260419T231919Z
DTSTART:20170531T090000Z
DTEND:20170531T100000Z
LOCATION:Crested Butte Library
SUMMARY:Coffee with the Community
DESCRIPTION:Join us for the Crested Butte Library&#8217;s\,  &#8220;Coffee 
 with the Community.&#8221; Our guest in May is Marketa Zubkova from the Hi
 spanic Affairs Project. Coffee with the Community is a monthly program that
  gives the public and local officials an opportunity to discuss community i
 ssues\,  learn more about local government\,  and build[..]\nhttps://www.gu
 nnisoncountylibraries.org/events/coffee-with-the-community-with-marketa-zub
 kova-from-the-hispanic-affairs-project/
URL:https://www.gunnisoncountylibraries.org/events/coffee-with-the-community-with-marketa-zubkova-from-the-hispanic-affairs-project/
END:VEVENT
END:VCALENDAR