BEGIN:VCALENDAR
VERSION:2.0
PRODID:-//eventon.com NONSGML v1.0//EN
CALSCALE:GREGORIAN
METHOD:PUBLISH
BEGIN:VEVENT
UID:69e5507b4aa7d
DTSTAMP:20260419T220027Z
DTSTART:20170509T173000Z
DTEND:20170509T190000Z
LOCATION:
SUMMARY:Books-n-Bars
DESCRIPTION:Join us every month at a different local &#8220;watering hole&#
 8221; to discuss a book.  Scintillating conversation guaranteed! It&#8217;
 s Mystery May!  This month&#8217;s title is The Sweetness at the Bottom of
  the Pie\,   by Alan Bradley.   From Amazon.com: Amazon Best of the Mo
 nth\,  April 2009: It&#8217;s the beginning of a lazy summer in[..]\nhttps:
 //www.gunnisoncountylibraries.org/events/books-n-bars-6/
URL:https://www.gunnisoncountylibraries.org/events/books-n-bars-6/
END:VEVENT
END:VCALENDAR