BEGIN:VCALENDAR
VERSION:2.0
PRODID:-//eventon.com NONSGML v1.0//EN
CALSCALE:GREGORIAN
METHOD:PUBLISH
BEGIN:VEVENT
UID:69e565faa0e21
DTSTAMP:20260419T233210Z
DTSTART:20170810T100000Z
DTEND:20170810T110000Z
LOCATION:
SUMMARY:Children's Magician and Performer Ann Lincoln
DESCRIPTION:Ann Lincoln is coming to Gunnison Library on Thursday August 10
  at 10am. Her show contains comedy\,  expert juggling &#038; circus skills\
 ,  magic involving birds\,  bunnies &#038; audience members\,  and can incl
 ude Ann juggling two bowling balls while eating an apple! Ann began honing 
 her craft in 1982 when she[..]\nhttps://www.gunnisoncountylibraries.org/eve
 nts/childrens-magician-and-performer-ann-lincoln/
URL:https://www.gunnisoncountylibraries.org/events/childrens-magician-and-performer-ann-lincoln/
END:VEVENT
END:VCALENDAR