BEGIN:VCALENDAR
VERSION:2.0
PRODID:-//eventon.com NONSGML v1.0//EN
CALSCALE:GREGORIAN
METHOD:PUBLISH
BEGIN:VEVENT
UID:69e57c8fb4e29
DTSTAMP:20260420T010831Z
DTSTART:20170425T173000Z
DTEND:20170425T190000Z
LOCATION:
SUMMARY:Books-n-Bars
DESCRIPTION:Join us every month at a different local &#8220;watering hole&#
 8221; to discuss a book.  Scintillating conversation guaranteed! This mont
 h&#8217;s title is This Cursed Valley\,  by local author Larry Meredith.  
 The author will be joining us for the first part of the discussion!   Titl
 es are available for check out at[..]\nhttps://www.gunnisoncountylibraries.
 org/events/books-n-bars-5/
URL:https://www.gunnisoncountylibraries.org/events/books-n-bars-5/
END:VEVENT
END:VCALENDAR