BEGIN:VCALENDAR
VERSION:2.0
PRODID:-//eventon.com NONSGML v1.0//EN
CALSCALE:GREGORIAN
METHOD:PUBLISH
BEGIN:VEVENT
UID:69e4c8af85860
DTSTAMP:20260419T122103Z
DTSTART:20170207T170000Z
DTEND:20170207T190000Z
LOCATION:Crested Butte Library
SUMMARY:Apps & Apps* Personalized Tech Help
DESCRIPTION:Bring in your device and get some one-on-one tech help with a l
 ibrary professional! We’ll get you connected with our library resources\,
   or get you started on any applications you’ve had trouble with on your 
 device.   Plus\,  we’ll have some yummy appetizers to munch on too! Plea
 se call to[..]\nhttps://www.gunnisoncountylibraries.org/events/apps-and-app
 s-personalized-tech-help/
URL:https://www.gunnisoncountylibraries.org/events/apps-and-apps-personalized-tech-help/
END:VEVENT
END:VCALENDAR